BEGIN:VCALENDAR
VERSION:2.0
PRODID:-//Your Community Church - ECPv6.15.20//NONSGML v1.0//EN
CALSCALE:GREGORIAN
METHOD:PUBLISH
X-WR-CALNAME:Your Community Church
X-ORIGINAL-URL:https://yourcommunitychurch.com
X-WR-CALDESC:Events for Your Community Church
REFRESH-INTERVAL;VALUE=DURATION:PT1H
X-Robots-Tag:noindex
X-PUBLISHED-TTL:PT1H
BEGIN:VTIMEZONE
TZID:America/Chicago
BEGIN:DAYLIGHT
TZOFFSETFROM:-0600
TZOFFSETTO:-0500
TZNAME:CDT
DTSTART:20250309T080000
END:DAYLIGHT
BEGIN:STANDARD
TZOFFSETFROM:-0500
TZOFFSETTO:-0600
TZNAME:CST
DTSTART:20251102T070000
END:STANDARD
BEGIN:DAYLIGHT
TZOFFSETFROM:-0600
TZOFFSETTO:-0500
TZNAME:CDT
DTSTART:20260308T080000
END:DAYLIGHT
BEGIN:STANDARD
TZOFFSETFROM:-0500
TZOFFSETTO:-0600
TZNAME:CST
DTSTART:20261101T070000
END:STANDARD
BEGIN:DAYLIGHT
TZOFFSETFROM:-0600
TZOFFSETTO:-0500
TZNAME:CDT
DTSTART:20270314T080000
END:DAYLIGHT
BEGIN:STANDARD
TZOFFSETFROM:-0500
TZOFFSETTO:-0600
TZNAME:CST
DTSTART:20271107T070000
END:STANDARD
END:VTIMEZONE
BEGIN:VEVENT
DTSTART;TZID=America/Chicago:20260329T103000
DTEND;TZID=America/Chicago:20260329T120000
DTSTAMP:20260421T081833
CREATED:20260302T220350Z
LAST-MODIFIED:20260302T224721Z
UID:5992-1774780200-1774785600@yourcommunitychurch.com
SUMMARY:Celebration Sunday
DESCRIPTION:Join us as we celebrate those being baptized and our new members. \nA great time of joyous celebration and fellowship.
URL:https://yourcommunitychurch.com/event/celebration-sunday/
LOCATION:Your Community Church\, 7011 FM 546\, Princeton\, Texas\, 75407
CATEGORIES:Baptism,Fellowship
ATTACH;FMTTYPE=image/png:https://yourcommunitychurch.com/wp-content/uploads/2026/03/Celebration-1.png
ORGANIZER;CN="Your Community Church":MAILTO:info@yourcommunitychurch.com
END:VEVENT
END:VCALENDAR