BEGIN:VCALENDAR
VERSION:2.0
PRODID:-//Your Community Church - ECPv6.15.20//NONSGML v1.0//EN
CALSCALE:GREGORIAN
METHOD:PUBLISH
X-ORIGINAL-URL:https://yourcommunitychurch.com
X-WR-CALDESC:Events for Your Community Church
REFRESH-INTERVAL;VALUE=DURATION:PT1H
X-Robots-Tag:noindex
X-PUBLISHED-TTL:PT1H
BEGIN:VTIMEZONE
TZID:America/Chicago
BEGIN:DAYLIGHT
TZOFFSETFROM:-0600
TZOFFSETTO:-0500
TZNAME:CDT
DTSTART:20240310T080000
END:DAYLIGHT
BEGIN:STANDARD
TZOFFSETFROM:-0500
TZOFFSETTO:-0600
TZNAME:CST
DTSTART:20241103T070000
END:STANDARD
BEGIN:DAYLIGHT
TZOFFSETFROM:-0600
TZOFFSETTO:-0500
TZNAME:CDT
DTSTART:20250309T080000
END:DAYLIGHT
BEGIN:STANDARD
TZOFFSETFROM:-0500
TZOFFSETTO:-0600
TZNAME:CST
DTSTART:20251102T070000
END:STANDARD
BEGIN:DAYLIGHT
TZOFFSETFROM:-0600
TZOFFSETTO:-0500
TZNAME:CDT
DTSTART:20260308T080000
END:DAYLIGHT
BEGIN:STANDARD
TZOFFSETFROM:-0500
TZOFFSETTO:-0600
TZNAME:CST
DTSTART:20261101T070000
END:STANDARD
END:VTIMEZONE
BEGIN:VEVENT
DTSTART;TZID=America/Chicago:20251224T180000
DTEND;TZID=America/Chicago:20251224T180000
DTSTAMP:20260421T144643
CREATED:20251219T202825Z
LAST-MODIFIED:20260110T003944Z
UID:2457-1766599200-1766599200@yourcommunitychurch.com
SUMMARY:Christmas Eve Candlelight Service
DESCRIPTION:
URL:https://yourcommunitychurch.com/event/christmas-eve-candlelight-service-2/
LOCATION:Your Community Church\, 7011 FM 546\, Princeton\, Texas\, 75407
CATEGORIES:Christmas
ATTACH;FMTTYPE=image/png:https://yourcommunitychurch.com/wp-content/uploads/2025/12/for-unto-us-a-1.png
ORGANIZER;CN="Your Community Church":MAILTO:info@yourcommunitychurch.com
END:VEVENT
END:VCALENDAR